BEGIN:VCALENDAR
VERSION:2.0
PRODID:-//WIQ - ECPv6.15.11//NONSGML v1.0//EN
CALSCALE:GREGORIAN
METHOD:PUBLISH
X-WR-CALNAME:WIQ
X-ORIGINAL-URL:https://wiq.be
X-WR-CALDESC:Évènements pour WIQ
REFRESH-INTERVAL;VALUE=DURATION:PT1H
X-Robots-Tag:noindex
X-PUBLISHED-TTL:PT1H
BEGIN:VTIMEZONE
TZID:Europe/Brussels
BEGIN:DAYLIGHT
TZOFFSETFROM:+0100
TZOFFSETTO:+0200
TZNAME:CEST
DTSTART:20250330T010000
END:DAYLIGHT
BEGIN:STANDARD
TZOFFSETFROM:+0200
TZOFFSETTO:+0100
TZNAME:CET
DTSTART:20251026T010000
END:STANDARD
BEGIN:DAYLIGHT
TZOFFSETFROM:+0100
TZOFFSETTO:+0200
TZNAME:CEST
DTSTART:20260329T010000
END:DAYLIGHT
BEGIN:STANDARD
TZOFFSETFROM:+0200
TZOFFSETTO:+0100
TZNAME:CET
DTSTART:20261025T010000
END:STANDARD
BEGIN:DAYLIGHT
TZOFFSETFROM:+0100
TZOFFSETTO:+0200
TZNAME:CEST
DTSTART:20270328T010000
END:DAYLIGHT
BEGIN:STANDARD
TZOFFSETFROM:+0200
TZOFFSETTO:+0100
TZNAME:CET
DTSTART:20271031T010000
END:STANDARD
END:VTIMEZONE
BEGIN:VEVENT
DTSTART;TZID=Europe/Brussels:20260428T200000
DTEND;TZID=Europe/Brussels:20260428T220000
DTSTAMP:20260424T122056
CREATED:20260423T122901Z
LAST-MODIFIED:20260423T122901Z
UID:12833-1777406400-1777413600@wiq.be
SUMMARY:Soirée d'Information - Réaménagement de l'avenue Georges Henri
DESCRIPTION:
URL:https://wiq.be/evenement/soiree-dinformation-reamenagement-de-lavenue-georges-henri/
LOCATION:Chapelle de l’Institut des Sourds et Muets\, Avenue Georges Henri\, 228\, Woluwe-Saint-Lambert\, 1200\, Belgique
CATEGORIES:Évènement
ATTACH;FMTTYPE=image/jpeg:https://wiq.be/wp-content/uploads/2026/04/Ttb_A5FR_NM-WEB.jpg
ORGANIZER;CN="Wolu-Inter-Quartiers":MAILTO:info@wiq.be
END:VEVENT
END:VCALENDAR